BEGIN:VCALENDAR
VERSION:2.0
PRODID:-//Austin Black Physicians Association | EQUITABLE HEALTH FOR ALL - ECPv6.15.20//NONSGML v1.0//EN
CALSCALE:GREGORIAN
METHOD:PUBLISH
X-WR-CALNAME:Austin Black Physicians Association | EQUITABLE HEALTH FOR ALL
X-ORIGINAL-URL:https://austinbpa.org
X-WR-CALDESC:Events for Austin Black Physicians Association | EQUITABLE HEALTH FOR ALL
REFRESH-INTERVAL;VALUE=DURATION:PT1H
X-Robots-Tag:noindex
X-PUBLISHED-TTL:PT1H
BEGIN:VTIMEZONE
TZID:America/Chicago
BEGIN:DAYLIGHT
TZOFFSETFROM:-0600
TZOFFSETTO:-0500
TZNAME:CDT
DTSTART:20250309T080000
END:DAYLIGHT
BEGIN:STANDARD
TZOFFSETFROM:-0500
TZOFFSETTO:-0600
TZNAME:CST
DTSTART:20251102T070000
END:STANDARD
BEGIN:DAYLIGHT
TZOFFSETFROM:-0600
TZOFFSETTO:-0500
TZNAME:CDT
DTSTART:20260308T080000
END:DAYLIGHT
BEGIN:STANDARD
TZOFFSETFROM:-0500
TZOFFSETTO:-0600
TZNAME:CST
DTSTART:20261101T070000
END:STANDARD
BEGIN:DAYLIGHT
TZOFFSETFROM:-0600
TZOFFSETTO:-0500
TZNAME:CDT
DTSTART:20270314T080000
END:DAYLIGHT
BEGIN:STANDARD
TZOFFSETFROM:-0500
TZOFFSETTO:-0600
TZNAME:CST
DTSTART:20271107T070000
END:STANDARD
END:VTIMEZONE
BEGIN:VEVENT
DTSTART;TZID=America/Chicago:20260425T090000
DTEND;TZID=America/Chicago:20260425T100000
DTSTAMP:20260423T073803
CREATED:20260410T192100Z
LAST-MODIFIED:20260410T193745Z
UID:4942-1777107600-1777111200@austinbpa.org
SUMMARY:Mindful Meditation at Zilker Park
DESCRIPTION:As part of our continued commitment to community\, connection\, and well-being\, the Austin Black Physicians Association (ABPA) invites you to join us for a morning of mindful meditation and grounding at Zilker Park – at the entrance of Violet Crown Trail. \nThis experience is designed as a moment to pause – especially during a season that can feel demanding and full. Whether you are navigating finals\, final projects\, professional responsibilities\, or simply the pace of everyday life\, this space is for you. \nAt ABPA\, we are being more intentional about pouring back into ourselves – our physicians\, our students\, and our broader community. We recognize that in order to continue serving others\, we must also create space to restore\, reflect\, and reconnect. \nThis guided meditation will be led by Life Coach Kyron Green\, whose presence\, voice\, and energy bring a grounded sense of clarity\, authenticity\, and calm. \nTogether\, we will: \n\nPause and reset\nPractice mindfulness and breathwork\nSet intentions for the weeks ahead\nBuild community in a peaceful\, supportive environment\n\n📍 Zilker Park – Violet Crown Trail\n📅 Saturday\, April 25\n🕘 9:00 AM \n\nYoga mat or blanket\nWater\nComfortable clothing\nAn open mind\n\nThis is a free community offering; however\, if you feel inspired to support ABPA and help us continue creating spaces like this for wellness\, connection\, and impact. We welcome donations of any amount. Your support directly contributes to our programming and outreach efforts across physicians\, students\, and the community. \nWe look forward to sharing this space with you.\nAll are welcome.
URL:https://austinbpa.org/event/mindful-meditation-at-zilker-park/
LOCATION:TX
END:VEVENT
BEGIN:VEVENT
DTSTART;TZID=America/Chicago:20260502T113000
DTEND;TZID=America/Chicago:20260502T170000
DTSTAMP:20260423T073803
CREATED:20260415T201318Z
LAST-MODIFIED:20260415T220954Z
UID:4955-1777721400-1777741200@austinbpa.org
SUMMARY:[TAAHP] Medical School Application Workshop
DESCRIPTION:SHSU-COM Admissions and SNMA will host a Medical School Application Workshop on Saturday\, May 2 (11:30 a.m. – 5:00 p.m.) at SHSU-COM in Conroe\, TX. This full-day event includes workshops\, panels\, and guidance on preparing for medical school. Lunch will be provided. \n🔗 Register: https://forms.gle/PGYsXbSN1cgWqSRM8 \n📌 See attached flyer for details.
URL:https://austinbpa.org/event/taahp-medical-school-application-workshop/
LOCATION:TX
END:VEVENT
BEGIN:VEVENT
DTSTART;TZID=America/Chicago:20260515T180000
DTEND;TZID=America/Chicago:20260515T210000
DTSTAMP:20260423T073803
CREATED:20260416T045738Z
LAST-MODIFIED:20260416T050144Z
UID:4961-1778868000-1778878800@austinbpa.org
SUMMARY:Community Game Night
DESCRIPTION:🎲 Community Game Night with ABPA \nJoin the Austin Black Physicians Association (ABPA) for an evening of connection\, community\, and fun at our upcoming Community Game Night. \nThis event is designed to bring together physicians\, students\, and community members in a relaxed\, welcoming environment. Whether you’re looking to unwind after a long week\, meet new people\, or simply enjoy a game or two\, this is a great opportunity to engage with the ABPA community in a meaningful and low-pressure setting. \n✨ What to Expect: \nBoard games and interactive play\nNetworking and community connection\nA welcoming\, inclusive atmosphere \n📅 Date: Friday\, May 15\n⏰ Time: 6:00 PM – 9:00 PM\n📍 Location: Emerald Tavern Games & Café\n9012 Research Blvd #1\, Austin\, TX 78758 \n🎟 Reserve your spot today! \nIf you’re able\, consider making a donation to support ABPA’s ongoing efforts to create impactful\, community-centered programming and strengthen the pipeline of future healthcare professionals. \nWe look forward to seeing you there!
URL:https://austinbpa.org/event/community-game-night-2/
LOCATION:Emerald Tavern Games & Cafe\, 9012 Research Blvd #1\, Austin\, TX\, 78758\, United States
CATEGORIES:Community Events
ATTACH;FMTTYPE=image/png:https://austinbpa.org/wp-content/uploads/2026/04/GameNight.png
END:VEVENT
BEGIN:VEVENT
DTSTART;VALUE=DATE:20260610
DTEND;VALUE=DATE:20260611
DTSTAMP:20260423T073803
CREATED:20260319T123037Z
LAST-MODIFIED:20260319T124531Z
UID:4927-1781049600-1781135999@austinbpa.org
SUMMARY:Shadowing Program Kick Off Mixer
DESCRIPTION:More details to come!
URL:https://austinbpa.org/event/shadowing-program-kick-off-mixer/
LOCATION:TX
END:VEVENT
BEGIN:VEVENT
DTSTART;TZID=America/Chicago:20260610T183000
DTEND;TZID=America/Chicago:20260610T203000
DTSTAMP:20260423T073803
CREATED:20260318T131953Z
LAST-MODIFIED:20260318T132001Z
UID:4852-1781116200-1781123400@austinbpa.org
SUMMARY:Q2 Board Meeting
DESCRIPTION:
URL:https://austinbpa.org/event/q2-board-meeting/
LOCATION:TX
END:VEVENT
BEGIN:VEVENT
DTSTART;TZID=America/Chicago:20260803T180000
DTEND;TZID=America/Chicago:20260803T190000
DTSTAMP:20260423T073803
CREATED:20260318T130604Z
LAST-MODIFIED:20260318T130604Z
UID:4841-1785780000-1785783600@austinbpa.org
SUMMARY:Financial Wellness Education Series — Hosted by Sunflower Bank
DESCRIPTION:ABPA is excited to launch a quarterly financial education series\, generously hosted  and sponsored by Sunflower Bank\, designed to equip students with practical tools for long-term financial success. In collaboration with Sunflower Bank’s wealth management professionals\, this four-part series will cover essential topics ranging from responsible debt management to wealth building and credit literacy. \nParticipants will receive a participant guide prior to each session to support learning and preparation. While the guides are comprehensive\, presentations will be thoughtfully streamlined to allow for meaningful discussion and live Q&A. Sessions will be structured to encourage focused participation\, with cameras and microphones enabled during the Q&A portion. \nQuarterly Series Topics: \n3rd Quarter: Managing Your Wealth & Insuring Your Practice; Monday\, August 3 at 6pm \nWe are grateful to Sunflower Bank for hosting and supporting this important initiative\, which aligns with ABPA’s commitment to the professional and financial well-being of future physicians. Additional details and session dates will be shared soon.
URL:https://austinbpa.org/event/financial-wellness-education-series-hosted-by-sunflower-bank-2/
LOCATION:TX
END:VEVENT
BEGIN:VEVENT
DTSTART;VALUE=DATE:20260807
DTEND;VALUE=DATE:20260808
DTSTAMP:20260423T073803
CREATED:20260318T132337Z
LAST-MODIFIED:20260318T132343Z
UID:4858-1786060800-1786147199@austinbpa.org
SUMMARY:Back to School Bash!
DESCRIPTION:Details to come!
URL:https://austinbpa.org/event/back-to-school-bash/
LOCATION:TX
END:VEVENT
BEGIN:VEVENT
DTSTART;VALUE=DATE:20260815
DTEND;VALUE=DATE:20260816
DTSTAMP:20260423T073803
CREATED:20260318T132219Z
LAST-MODIFIED:20260318T132241Z
UID:4856-1786752000-1786838399@austinbpa.org
SUMMARY:Medical Student-Resident Physician Mixer
DESCRIPTION:Details to come!
URL:https://austinbpa.org/event/medical-student-resident-physician-mixer/
LOCATION:TX
END:VEVENT
BEGIN:VEVENT
DTSTART;VALUE=DATE:20260826
DTEND;VALUE=DATE:20260827
DTSTAMP:20260423T073803
CREATED:20260318T132117Z
LAST-MODIFIED:20260422T182938Z
UID:4854-1787702400-1787788799@austinbpa.org
SUMMARY:Donor Appreciation Event
DESCRIPTION:Be on the lookout for more information!
URL:https://austinbpa.org/event/donor-appreciation-event-2/
LOCATION:TX
END:VEVENT
BEGIN:VEVENT
DTSTART;VALUE=DATE:20260919
DTEND;VALUE=DATE:20260920
DTSTAMP:20260423T073803
CREATED:20260318T131546Z
LAST-MODIFIED:20260318T131554Z
UID:4846-1789776000-1789862399@austinbpa.org
SUMMARY:10 year Anniversary Gala
DESCRIPTION:Be one the lookout for details for our 10 year Anniversary!
URL:https://austinbpa.org/event/10-year-anniversary-gala/
LOCATION:TX
END:VEVENT
BEGIN:VEVENT
DTSTART;TZID=America/Chicago:20260923T183000
DTEND;TZID=America/Chicago:20260923T203000
DTSTAMP:20260423T073803
CREATED:20260318T132425Z
LAST-MODIFIED:20260318T132502Z
UID:4860-1790188200-1790195400@austinbpa.org
SUMMARY:Q3 Board Meeting
DESCRIPTION:
URL:https://austinbpa.org/event/q3-board-meeting/
LOCATION:TX
END:VEVENT
BEGIN:VEVENT
DTSTART;VALUE=DATE:20261004
DTEND;VALUE=DATE:20261005
DTSTAMP:20260423T073803
CREATED:20260318T132701Z
LAST-MODIFIED:20260318T132708Z
UID:4864-1791072000-1791158399@austinbpa.org
SUMMARY:BBQ with the Docs
DESCRIPTION:Details to come!
URL:https://austinbpa.org/event/bbq-with-the-docs-2/
LOCATION:TX
END:VEVENT
BEGIN:VEVENT
DTSTART;VALUE=DATE:20261014
DTEND;VALUE=DATE:20261015
DTSTAMP:20260423T073803
CREATED:20260318T132602Z
LAST-MODIFIED:20260421T193453Z
UID:4862-1791936000-1792022399@austinbpa.org
SUMMARY:General Membership Meeting
DESCRIPTION:Details to Come!
URL:https://austinbpa.org/event/general-membership-meeting/
LOCATION:TX
END:VEVENT
BEGIN:VEVENT
DTSTART;VALUE=DATE:20261018
DTEND;VALUE=DATE:20261019
DTSTAMP:20260423T073803
CREATED:20260318T132807Z
LAST-MODIFIED:20260318T132812Z
UID:4866-1792281600-1792367999@austinbpa.org
SUMMARY:Physicians Happy Hour
DESCRIPTION:Details to Come!
URL:https://austinbpa.org/event/physicians-happy-hour/
LOCATION:TX
END:VEVENT
BEGIN:VEVENT
DTSTART;TZID=America/Chicago:20261109T180000
DTEND;TZID=America/Chicago:20261109T190000
DTSTAMP:20260423T073803
CREATED:20260318T130708Z
LAST-MODIFIED:20260318T130740Z
UID:4843-1794247200-1794250800@austinbpa.org
SUMMARY:Financial Wellness Education Series — Hosted by Sunflower Bank
DESCRIPTION:ABPA is excited to launch a quarterly financial education series\, generously hosted  and sponsored by Sunflower Bank\, designed to equip students with practical tools for long-term financial success. In collaboration with Sunflower Bank’s wealth management professionals\, this four-part series will cover essential topics ranging from responsible debt management to wealth building and credit literacy. \nParticipants will receive a participant guide prior to each session to support learning and preparation. While the guides are comprehensive\, presentations will be thoughtfully streamlined to allow for meaningful discussion and live Q&A. Sessions will be structured to encourage focused participation\, with cameras and microphones enabled during the Q&A portion. \nQuarterly Series Topics: \n4th Quarter: Understanding Business and Personal Credit; Monday\, November 9 at 6 PM \nWe are grateful to Sunflower Bank for hosting and supporting this important initiative\, which aligns with ABPA’s commitment to the professional and financial well-being of future physicians. Additional details and session dates will be shared soon.
URL:https://austinbpa.org/event/financial-wellness-education-series-hosted-by-sunflower-bank-3/
LOCATION:TX
END:VEVENT
BEGIN:VEVENT
DTSTART;TZID=America/Chicago:20261118T183000
DTEND;TZID=America/Chicago:20261118T203000
DTSTAMP:20260423T073803
CREATED:20260318T133005Z
LAST-MODIFIED:20260318T133011Z
UID:4870-1795026600-1795033800@austinbpa.org
SUMMARY:Q4 Board Meeting
DESCRIPTION:
URL:https://austinbpa.org/event/q4-board-meeting/
LOCATION:TX
END:VEVENT
BEGIN:VEVENT
DTSTART;VALUE=DATE:20261201
DTEND;VALUE=DATE:20261202
DTSTAMP:20260423T073803
CREATED:20260318T132859Z
LAST-MODIFIED:20260318T132905Z
UID:4868-1796083200-1796169599@austinbpa.org
SUMMARY:Giving Tuesday
DESCRIPTION:Details to Come!
URL:https://austinbpa.org/event/giving-tuesday/
LOCATION:TX
END:VEVENT
END:VCALENDAR