BEGIN:VCALENDAR
VERSION:2.0
PRODID:-//Austin Black Physicians Association | EQUITABLE HEALTH FOR ALL - ECPv6.15.20//NONSGML v1.0//EN
CALSCALE:GREGORIAN
METHOD:PUBLISH
X-ORIGINAL-URL:https://austinbpa.org
X-WR-CALDESC:Events for Austin Black Physicians Association | EQUITABLE HEALTH FOR ALL
REFRESH-INTERVAL;VALUE=DURATION:PT1H
X-Robots-Tag:noindex
X-PUBLISHED-TTL:PT1H
BEGIN:VTIMEZONE
TZID:America/Chicago
BEGIN:DAYLIGHT
TZOFFSETFROM:-0600
TZOFFSETTO:-0500
TZNAME:CDT
DTSTART:20210314T080000
END:DAYLIGHT
BEGIN:STANDARD
TZOFFSETFROM:-0500
TZOFFSETTO:-0600
TZNAME:CST
DTSTART:20211107T070000
END:STANDARD
BEGIN:DAYLIGHT
TZOFFSETFROM:-0600
TZOFFSETTO:-0500
TZNAME:CDT
DTSTART:20220313T080000
END:DAYLIGHT
BEGIN:STANDARD
TZOFFSETFROM:-0500
TZOFFSETTO:-0600
TZNAME:CST
DTSTART:20221106T070000
END:STANDARD
BEGIN:DAYLIGHT
TZOFFSETFROM:-0600
TZOFFSETTO:-0500
TZNAME:CDT
DTSTART:20230312T080000
END:DAYLIGHT
BEGIN:STANDARD
TZOFFSETFROM:-0500
TZOFFSETTO:-0600
TZNAME:CST
DTSTART:20231105T070000
END:STANDARD
END:VTIMEZONE
BEGIN:VEVENT
DTSTART;TZID=America/Chicago:20221022T130000
DTEND;TZID=America/Chicago:20221022T160000
DTSTAMP:20260423T173353
CREATED:20220916T152345Z
LAST-MODIFIED:20221006T174109Z
UID:2178-1666443600-1666454400@austinbpa.org
SUMMARY:BBQ with Doctors - Fall Mixer & Networking Event
DESCRIPTION:Join us for Barbecue with the Docs\, Saturday\, October 22\, 2022\, from 1 pm to 4 pm.\nHosted by the Austin Black Physicians Association \nPlease RSVP at https://aubpa.memberclicks.net/bbq#!/ \nWe can’t wait to see you there!
URL:https://austinbpa.org/event/bbq-with-doctors-fall-mixer-networking-event/
CATEGORIES:Community Events,Student Events
END:VEVENT
END:VCALENDAR