BEGIN:VCALENDAR
VERSION:2.0
PRODID:-//Austin Black Physicians Association | EQUITABLE HEALTH FOR ALL - ECPv6.15.20//NONSGML v1.0//EN
CALSCALE:GREGORIAN
METHOD:PUBLISH
X-ORIGINAL-URL:https://austinbpa.org
X-WR-CALDESC:Events for Austin Black Physicians Association | EQUITABLE HEALTH FOR ALL
REFRESH-INTERVAL;VALUE=DURATION:PT1H
X-Robots-Tag:noindex
X-PUBLISHED-TTL:PT1H
BEGIN:VTIMEZONE
TZID:America/Chicago
BEGIN:DAYLIGHT
TZOFFSETFROM:-0600
TZOFFSETTO:-0500
TZNAME:CDT
DTSTART:20210314T080000
END:DAYLIGHT
BEGIN:STANDARD
TZOFFSETFROM:-0500
TZOFFSETTO:-0600
TZNAME:CST
DTSTART:20211107T070000
END:STANDARD
BEGIN:DAYLIGHT
TZOFFSETFROM:-0600
TZOFFSETTO:-0500
TZNAME:CDT
DTSTART:20220313T080000
END:DAYLIGHT
BEGIN:STANDARD
TZOFFSETFROM:-0500
TZOFFSETTO:-0600
TZNAME:CST
DTSTART:20221106T070000
END:STANDARD
BEGIN:DAYLIGHT
TZOFFSETFROM:-0600
TZOFFSETTO:-0500
TZNAME:CDT
DTSTART:20230312T080000
END:DAYLIGHT
BEGIN:STANDARD
TZOFFSETFROM:-0500
TZOFFSETTO:-0600
TZNAME:CST
DTSTART:20231105T070000
END:STANDARD
BEGIN:DAYLIGHT
TZOFFSETFROM:-0600
TZOFFSETTO:-0500
TZNAME:CDT
DTSTART:20240310T080000
END:DAYLIGHT
BEGIN:STANDARD
TZOFFSETFROM:-0500
TZOFFSETTO:-0600
TZNAME:CST
DTSTART:20241103T070000
END:STANDARD
END:VTIMEZONE
BEGIN:VTIMEZONE
TZID:UTC
BEGIN:STANDARD
TZOFFSETFROM:+0000
TZOFFSETTO:+0000
TZNAME:UTC
DTSTART:20210101T000000
END:STANDARD
END:VTIMEZONE
BEGIN:VEVENT
DTSTART;TZID=America/Chicago:20231014T183000
DTEND;TZID=America/Chicago:20231014T230000
DTSTAMP:20260423T144810
CREATED:20230610T023255Z
LAST-MODIFIED:20230817T054337Z
UID:2698-1697308200-1697324400@austinbpa.org
SUMMARY:Austin Black Physicians Association Fundraising Gala 2023
DESCRIPTION:RSVP TODAY!\nThe Junior League Community Impact Center – Austin 5330 Bluffstone Lane\, Austin\, TX 78759\, United States \nJoin the Austin Black Physicians Association for a night to remember! \nThe Austin Black Physicians Association (ABPA) envisions a more just and equitable healthcare system where there are no barriers to access\, all patients are treated fairly\, and can expect equitable health outcomes. For this vision to be realized\, we solicit your sponsorship support to improve the health and wellness of underserved Black residents in the Greater Austin communities. \nYour ongoing generous donation at our annual fundraiser provides us with a solid foundation to create sustainable educational programs for our communities of color\, engagement opportunities for ABPA physicians\, and shadowing experiences to mentor the next generation of Black doctors. \nJoin us to increase diversity in the health workforce as a means to reduce health disparities that impacts so many people of color. \nThe ABPA is a 501 (c) (3) charitable organization and contributions are tax-deductible. You will receive an acknowledgment for tax purposes. \nRSVP TODAY!
URL:https://austinbpa.org/event/austin-black-physicians-association-fundraising-gala-2023/
LOCATION:The Junior League Community Impact Center – Austin\, 5330 Bluffstone Lane\, Austin\, United States
CATEGORIES:Fundraisers
ATTACH;FMTTYPE=image/jpeg:https://austinbpa.org/wp-content/uploads/2022/09/ABPAGala_301.jpg
END:VEVENT
BEGIN:VEVENT
DTSTART;VALUE=DATE:20230623
DTEND;VALUE=DATE:20230625
DTSTAMP:20260423T144810
CREATED:20230622T163706Z
LAST-MODIFIED:20230622T173037Z
UID:2709-1687478400-1687651199@austinbpa.org
SUMMARY:Birthing Black Community Summit 2023
DESCRIPTION:Birthing Black Community Summit 2023\nPresented by BLACK MAMAS ATX \nJune 23rd-June 24th from 10 AM – 5 PM \nRegister using QR Code shown on the flyer!
URL:https://austinbpa.org/event/birthing-black-community-summit-2023/
LOCATION:Huston-Tillotson Universitty
END:VEVENT
BEGIN:VEVENT
DTSTART;TZID=America/Chicago:20230227T180000
DTEND;TZID=America/Chicago:20230227T220000
DTSTAMP:20260423T144810
CREATED:20230206T174518Z
LAST-MODIFIED:20230610T022353Z
UID:2541-1677520800-1677535200@austinbpa.org
SUMMARY:The Black Fund Awards Show
DESCRIPTION:The Black Fund at Austin Community Foundation invites you to\nThe Black Fund Awards Show\nPresented by Netspend\n \nThe Paramount Theatre\nMonday\, February 27\, 2023 \nDoors: 6pm\nVIP Lounge: 6pm for the lounge with complimentary light bites\nShow: 7pm \nThank you for your support! We are excited to host you on February 27th for our inaugural Black Fund Awards Show. Please register for your complimentary tickets by fully completing the form below. We will be in touch soon with additional information on the evening and you will receive your complimentary tickets digitally prior to the event from info@austintheatre.org. Your VIP experience includes special access to the Red Carpet experience + VIP lounge for cocktails and light bites by Black culinary artists.If you have any questions\, please contact Janay Hardy at janay@tpmenterprise.com. \nThank you – see you on February 27\, 2023.
URL:https://austinbpa.org/event/the-black-fund-awards-show/
LOCATION:Paramount Theatre\, 713 Congress Ave\, Austin\, 78701\, United States
CATEGORIES:Community Events
END:VEVENT
BEGIN:VEVENT
DTSTART;TZID=America/Chicago:20230225T100000
DTEND;TZID=America/Chicago:20230225T130000
DTSTAMP:20260423T144810
CREATED:20230202T190637Z
LAST-MODIFIED:20230202T190939Z
UID:2531-1677319200-1677330000@austinbpa.org
SUMMARY:Practice Transformation Methods and Trauma Informed Awareness Integration in Health Care Settings
DESCRIPTION:The Texas AHEC East Capital Region will host a community learning opportunity as part of the new AHEC Learning series:\nPractice Transformation Methods and Trauma Informed Awareness Integration in Health Care Settings \nPanel discussion led by physicians from the Austin Black Physicians Association and mental health providers from CommunityCare \nSaturday\, February 25\, 2023\, from 10:00 am – 1:00 pm \nMillennium Youth Entertainment Complex | 1156 Hargrave St in Austin\, Texas 78702 \nLight refreshments and limited giveaways for the first in attendance.\nThis series is for students focused on careers in the health professions including but not limited to: physician\, physician assistant\, nurse practitioner\, nurse midwife\, or nurse. \nCommunity health workers\, and public and allied health professionals are asked to attend as well. \nAll AHEC and non-AHEC Students\, school faculty\, and staff are also welcome to attend.
URL:https://austinbpa.org/event/practice-transformation-methods-and-trauma-informed-awareness-integration-in-health-care-settings/
LOCATION:Millennium Youth Entertainment Complex\, 1156 Hargrave St\, Austin\, TX\, 78702\, United States
CATEGORIES:Community Events
END:VEVENT
BEGIN:VEVENT
DTSTART;TZID=America/Chicago:20221209T173000
DTEND;TZID=America/Chicago:20221209T190000
DTSTAMP:20260423T144811
CREATED:20221203T141758Z
LAST-MODIFIED:20221203T153204Z
UID:2483-1670607000-1670612400@austinbpa.org
SUMMARY:AHF and BLACC Texas Meet and Greet
DESCRIPTION:Slots will go fast\, so please RSVP asap.  We will not be able to accommodate any numbers above 75. \nRSVP ONLINE
URL:https://austinbpa.org/event/ahf-and-blacc-texas-meet-and-greet/
LOCATION:ZANZIBAR/AUSTIN ROOFTOP TERRACE\, 304 E. Cesar Chavez Street\, Unit 700\, Austin\, United States
CATEGORIES:Community Events
END:VEVENT
BEGIN:VEVENT
DTSTART;TZID=America/Chicago:20221112T090000
DTEND;TZID=America/Chicago:20221112T100000
DTSTAMP:20260423T144811
CREATED:20220921T225434Z
LAST-MODIFIED:20220921T231954Z
UID:2208-1668243600-1668247200@austinbpa.org
SUMMARY:Walk With a Doc
DESCRIPTION:
URL:https://austinbpa.org/event/walk-with-a-doc/
LOCATION:Patterson Park\, 4200 Brookview Rd\, Austin\, Austin\, 78722\, United States
CATEGORIES:Community Events
END:VEVENT
BEGIN:VEVENT
DTSTART;TZID=America/Chicago:20221022T130000
DTEND;TZID=America/Chicago:20221022T160000
DTSTAMP:20260423T144811
CREATED:20220916T152345Z
LAST-MODIFIED:20221006T174109Z
UID:2178-1666443600-1666454400@austinbpa.org
SUMMARY:BBQ with Doctors - Fall Mixer & Networking Event
DESCRIPTION:Join us for Barbecue with the Docs\, Saturday\, October 22\, 2022\, from 1 pm to 4 pm.\nHosted by the Austin Black Physicians Association \nPlease RSVP at https://aubpa.memberclicks.net/bbq#!/ \nWe can’t wait to see you there!
URL:https://austinbpa.org/event/bbq-with-doctors-fall-mixer-networking-event/
CATEGORIES:Community Events,Student Events
END:VEVENT
BEGIN:VEVENT
DTSTART;TZID=America/Chicago:20221020T183000
DTEND;TZID=America/Chicago:20221020T200000
DTSTAMP:20260423T144811
CREATED:20220916T151950Z
LAST-MODIFIED:20220921T224753Z
UID:2175-1666290600-1666296000@austinbpa.org
SUMMARY:General Meeting
DESCRIPTION:Join us for our General Meeting
URL:https://austinbpa.org/event/general-meeting-2/
END:VEVENT
BEGIN:VEVENT
DTSTART;TZID=America/Chicago:20220917T183000
DTEND;TZID=America/Chicago:20220917T230000
DTSTAMP:20260423T144811
CREATED:20220521T175532Z
LAST-MODIFIED:20220607T192721Z
UID:1967-1663439400-1663455600@austinbpa.org
SUMMARY:Austin Black Physicians Association Fundraising Gala 2022
DESCRIPTION:Join the Austin Black Physicians Association for a night to remember! \nThe Austin Black Physicians Association (ABPA) envisions a more just and equitable healthcare system where there are no barriers to access\, all patients are treated fairly\, and can expect equitable health outcomes. For this vision to be realized\, we solicit your sponsorship support to improve the health and wellness of underserved Black residents in the Greater Austin communities. \nYour ongoing generous donation at our annual fundraiser provides us with a solid foundation to create sustainable educational programs for our communities of color\, engagement opportunities for ABPA physicians\, and shadowing experiences to mentor the next generation of Black doctors. \nJoin us to increase diversity in the health workforce as a means to reduce health disparities that impacts so many people of color. \nThe ABPA is a 501 (c) (3) charitable organization and contributions are tax-deductible. You will receive an acknowledgment for tax purposes.
URL:https://austinbpa.org/event/austin-black-physicians-association-fundraising-gala-2022/
LOCATION:The Junior League Community Impact Center – Austin\, 5330 Bluffstone Lane\, Austin\, United States
CATEGORIES:Community Events,Fundraisers
ATTACH;FMTTYPE=image/jpeg:https://austinbpa.org/wp-content/uploads/2022/04/abpa095.jpg
END:VEVENT
BEGIN:VEVENT
DTSTART;TZID=UTC:20220518T080000
DTEND;TZID=UTC:20220518T170000
DTSTAMP:20260423T144811
CREATED:20220411T192522Z
LAST-MODIFIED:20220411T192522Z
UID:1338-1652860800-1652893200@austinbpa.org
SUMMARY:The Health of Black Women in Texas - Sample Event 4
DESCRIPTION:General meeting – discussing the health of Black Women in Texas
URL:https://austinbpa.org/event/the-health-of-black-women-in-texas-sample-event-4/
CATEGORIES:Community Events,Meetings
END:VEVENT
BEGIN:VEVENT
DTSTART;TZID=UTC:20220428T080000
DTEND;TZID=UTC:20220428T170000
DTSTAMP:20260423T144811
CREATED:20220411T190749Z
LAST-MODIFIED:20220411T191440Z
UID:1330-1651132800-1651165200@austinbpa.org
SUMMARY:Sample Community Event
DESCRIPTION:This is a general free event for the community. We’re looking forward to seeing you soon. \n 
URL:https://austinbpa.org/event/sample-community-event/
LOCATION:Austin City Limits\, 310 Willie Nelson Blvd\, Austin\, TX\, 78701\, United States
CATEGORIES:Community Events
END:VEVENT
BEGIN:VEVENT
DTSTART;VALUE=DATE:20220421
DTEND;VALUE=DATE:20220422
DTSTAMP:20260423T144811
CREATED:20220303T231256Z
LAST-MODIFIED:20220411T195330Z
UID:1048-1650499200-1650585599@austinbpa.org
SUMMARY:General Meeting for the Community
DESCRIPTION:
URL:https://austinbpa.org/event/general-meeting/
CATEGORIES:Community Events,Meetings
END:VEVENT
END:VCALENDAR